BEGIN:VCALENDAR
VERSION:2.0
PRODID:-//Step By Step - ECPv6.14.2//NONSGML v1.0//EN
CALSCALE:GREGORIAN
METHOD:PUBLISH
X-ORIGINAL-URL:https://stepbystepinc.com
X-WR-CALDESC:Events for Step By Step
REFRESH-INTERVAL;VALUE=DURATION:PT1H
X-Robots-Tag:noindex
X-PUBLISHED-TTL:PT1H
BEGIN:VTIMEZONE
TZID:America/New_York
BEGIN:DAYLIGHT
TZOFFSETFROM:-0500
TZOFFSETTO:-0400
TZNAME:EDT
DTSTART:20230312T070000
END:DAYLIGHT
BEGIN:STANDARD
TZOFFSETFROM:-0400
TZOFFSETTO:-0500
TZNAME:EST
DTSTART:20231105T060000
END:STANDARD
END:VTIMEZONE
BEGIN:VEVENT
DTSTART;VALUE=DATE:20231107
DTEND;VALUE=DATE:20231108
DTSTAMP:20260424T052032
CREATED:20220718T145419Z
LAST-MODIFIED:20230608T144426Z
UID:30473-1699315200-1699401599@stepbystepinc.com
SUMMARY:Studio Open
DESCRIPTION:The studio will be open on Tuesday\, November 7th
URL:https://stepbystepinc.com/event/studio-closed-election-day/
LOCATION:Step-By-Step\, 85 River Street\, Waltham\, MA\, 02453\, United States
CATEGORIES:In Studio
END:VEVENT
END:VCALENDAR