BEGIN:VCALENDAR
VERSION:2.0
PRODID:-//Step By Step - ECPv6.14.2//NONSGML v1.0//EN
CALSCALE:GREGORIAN
METHOD:PUBLISH
X-WR-CALNAME:Step By Step
X-ORIGINAL-URL:https://stepbystepinc.com
X-WR-CALDESC:Events for Step By Step
REFRESH-INTERVAL;VALUE=DURATION:PT1H
X-Robots-Tag:noindex
X-PUBLISHED-TTL:PT1H
BEGIN:VTIMEZONE
TZID:America/New_York
BEGIN:DAYLIGHT
TZOFFSETFROM:-0500
TZOFFSETTO:-0400
TZNAME:EDT
DTSTART:20230312T070000
END:DAYLIGHT
BEGIN:STANDARD
TZOFFSETFROM:-0400
TZOFFSETTO:-0500
TZNAME:EST
DTSTART:20231105T060000
END:STANDARD
END:VTIMEZONE
BEGIN:VEVENT
DTSTART;VALUE=DATE:20230619
DTEND;VALUE=DATE:20230620
DTSTAMP:20260423T195241
CREATED:20220610T182058Z
LAST-MODIFIED:20230608T205829Z
UID:30195-1687132800-1687219199@stepbystepinc.com
SUMMARY:Online Registration Opens
DESCRIPTION:Register for the upcoming 2023-2024 season! \n 
URL:https://stepbystepinc.com/event/online-registration-opens/
CATEGORIES:Online
ATTACH;FMTTYPE=image/jpeg:https://stepbystepinc.com/refresh/wp-content/uploads/2023/06/Registration-2023-2024.jpg
END:VEVENT
END:VCALENDAR