BEGIN:VCALENDAR
VERSION:2.0
PRODID:-//Step By Step - ECPv6.14.2//NONSGML v1.0//EN
CALSCALE:GREGORIAN
METHOD:PUBLISH
X-WR-CALNAME:Step By Step
X-ORIGINAL-URL:https://stepbystepinc.com
X-WR-CALDESC:Events for Step By Step
REFRESH-INTERVAL;VALUE=DURATION:PT1H
X-Robots-Tag:noindex
X-PUBLISHED-TTL:PT1H
BEGIN:VTIMEZONE
TZID:America/New_York
BEGIN:DAYLIGHT
TZOFFSETFROM:-0500
TZOFFSETTO:-0400
TZNAME:EDT
DTSTART:20240310T070000
END:DAYLIGHT
BEGIN:STANDARD
TZOFFSETFROM:-0400
TZOFFSETTO:-0500
TZNAME:EST
DTSTART:20241103T060000
END:STANDARD
BEGIN:DAYLIGHT
TZOFFSETFROM:-0500
TZOFFSETTO:-0400
TZNAME:EDT
DTSTART:20250309T070000
END:DAYLIGHT
BEGIN:STANDARD
TZOFFSETFROM:-0400
TZOFFSETTO:-0500
TZNAME:EST
DTSTART:20251102T060000
END:STANDARD
BEGIN:DAYLIGHT
TZOFFSETFROM:-0500
TZOFFSETTO:-0400
TZNAME:EDT
DTSTART:20260308T070000
END:DAYLIGHT
BEGIN:STANDARD
TZOFFSETFROM:-0400
TZOFFSETTO:-0500
TZNAME:EST
DTSTART:20261101T060000
END:STANDARD
END:VTIMEZONE
BEGIN:VEVENT
DTSTART;VALUE=DATE:20260420
DTEND;VALUE=DATE:20260425
DTSTAMP:20260425T092815
CREATED:20250814T161339Z
LAST-MODIFIED:20250814T161339Z
UID:31252-1776643200-1777075199@stepbystepinc.com
SUMMARY:April Break - Studio Closed
DESCRIPTION:We will be closed for April Break from Monday\, April 20th through Friday\, April 24th. Please check with the studio or visit the Events Calendar on our website for updates on studio closings
URL:https://stepbystepinc.com/event/april-break-studio-closed/
END:VEVENT
BEGIN:VEVENT
DTSTART;VALUE=DATE:20260216
DTEND;VALUE=DATE:20260223
DTSTAMP:20260425T092815
CREATED:20250814T160939Z
LAST-MODIFIED:20250814T160939Z
UID:31250-1771200000-1771804799@stepbystepinc.com
SUMMARY:February Break - Studio Closed
DESCRIPTION:We will be closed for February Break from Monday\, February 16th through Saturday\, February 21st. Please check with the studio or visit the Events Calendar on our website for updates on studio closings.
URL:https://stepbystepinc.com/event/february-break-studio-closed/
END:VEVENT
BEGIN:VEVENT
DTSTART;VALUE=DATE:20260119
DTEND;VALUE=DATE:20260120
DTSTAMP:20260425T092815
CREATED:20250814T160617Z
LAST-MODIFIED:20250814T160617Z
UID:31248-1768780800-1768867199@stepbystepinc.com
SUMMARY:Martin Luther King Jr. Day – Studio Closed
DESCRIPTION:We will be closed for all classes on Martin Luther King Jr. Day\, Monday\, January 19th. Please check with the studio or visit the Events Calendar on our website for updates on studio closings.
URL:https://stepbystepinc.com/event/martin-luther-king-jr-day-studio-closed/
END:VEVENT
BEGIN:VEVENT
DTSTART;VALUE=DATE:20251222
DTEND;VALUE=DATE:20260103
DTSTAMP:20260425T092815
CREATED:20250814T154432Z
LAST-MODIFIED:20251125T190507Z
UID:31240-1766361600-1767398399@stepbystepinc.com
SUMMARY:Winter Break - Studio Closed
DESCRIPTION:Happy Holidays from all of us at Step By Step Dance Studio! We will be closed for Winter Break from Monday\, December 22nd\, and will reopen on Friday\, January 2nd. \nThank you to all of our families and dancers for a wonderful year. We wish you a joyful holiday season and a happy New Year filled with dance\, fun\, and memorable moments. We look forward to seeing you back in the studio in 2025!
URL:https://stepbystepinc.com/event/winter-break-studio-closed/
END:VEVENT
BEGIN:VEVENT
DTSTART;TZID=America/New_York:20251220T170000
DTEND;TZID=America/New_York:20251220T230000
DTSTAMP:20260425T092815
CREATED:20250814T160051Z
LAST-MODIFIED:20250814T160051Z
UID:31245-1766250000-1766271600@stepbystepinc.com
SUMMARY:Winter Gala – Benefit for Burn Survivors of New England
DESCRIPTION:Saturday\, December 20thVIP Reception: 5:00 PM – 6:00 PMGeneral Admission Doors Open: 6:30 PMShowtime: 7:00 PM \nJoin us at the Waltham Westin Hotel for the Winter Gala\, benefiting Burn Survivors of New England. Step By Step Dance Studio will provide entertainment alongside speakers and local artists. All net proceeds support burn survivors and their families\, providing scholarships to attend social gatherings\, regional and national conferences\, and access to education\, resources\, engagement\, and community connection. \nLearn more about the people we are helping or make a year-end donation to support their journey athttps://bsone.org/
URL:https://stepbystepinc.com/event/winter-gala-benefit-for-burn-survivors-of-new-england/
END:VEVENT
BEGIN:VEVENT
DTSTART;TZID=America/New_York:20251219T153000
DTEND;TZID=America/New_York:20251219T213000
DTSTAMP:20260425T092815
CREATED:20250814T155829Z
LAST-MODIFIED:20250814T155829Z
UID:31242-1766158200-1766179800@stepbystepinc.com
SUMMARY:Technical Rehearsal – Winter Gala
DESCRIPTION:Friday\, December 19th – Time TBD\nStep By Step Dance Studio will be participating in the Winter Gala to benefit Burn Survivors of New England at the Waltham Westin Hotel. Families who would like to reserve a hotel room to make their stay easier should contact the hotel directly. Additional details about rehearsal times will be shared with participants soon. \nLearn more about the people we are helping or make a year-end donation to support their journey at https://bsone.org/
URL:https://stepbystepinc.com/event/technical-rehearsal-winter-gala/
END:VEVENT
BEGIN:VEVENT
DTSTART;VALUE=DATE:20251126
DTEND;VALUE=DATE:20251130
DTSTAMP:20260425T092815
CREATED:20250814T152535Z
LAST-MODIFIED:20250814T152535Z
UID:31237-1764115200-1764460799@stepbystepinc.com
SUMMARY:Thanksgiving Break - Studio Closed
DESCRIPTION:We will be closed for Thanksgiving Break from Wednesday\, November 26th through Saturday\, November 29th. Please check with the studio or visit the Events Calendar on our website for updates on studio closings.
URL:https://stepbystepinc.com/event/thanksgiving-break-studio-closed/
END:VEVENT
BEGIN:VEVENT
DTSTART;TZID=America/New_York:20251111T160000
DTEND;TZID=America/New_York:20251111T210000
DTSTAMP:20260425T092815
CREATED:20250814T151908Z
LAST-MODIFIED:20250814T151908Z
UID:31233-1762876800-1762894800@stepbystepinc.com
SUMMARY:Veteran's Day - Studio Closed
DESCRIPTION:We will be closed for all classes on Veterans Day\, Tuesday\, November 11th. Please check with the studio or visit the Events Calendar on our website for updates on studio closings and make-up class options.
URL:https://stepbystepinc.com/event/veterans-day-studio-closed/
END:VEVENT
BEGIN:VEVENT
DTSTART;TZID=America/New_York:20251104T160000
DTEND;TZID=America/New_York:20251104T210000
DTSTAMP:20260425T092815
CREATED:20250814T151518Z
LAST-MODIFIED:20250814T151518Z
UID:31231-1762272000-1762290000@stepbystepinc.com
SUMMARY:Professional Development Day – Studio Open
DESCRIPTION:We will remain open for classes on Professional Development Day\, Tuesday\, November 4th. While we follow the Waltham Public School System for snow cancellations\, we do not close for all school holidays. Please check with the studio or visit the Events Calendar on our website for updates on studio closings.
URL:https://stepbystepinc.com/event/professional-development-day-studio-open/
END:VEVENT
BEGIN:VEVENT
DTSTART;TZID=America/New_York:20251013T160000
DTEND;TZID=America/New_York:20251013T210000
DTSTAMP:20260425T092815
CREATED:20250814T151057Z
LAST-MODIFIED:20250814T151057Z
UID:31229-1760371200-1760389200@stepbystepinc.com
SUMMARY:Columbus Day – Studio Closed
DESCRIPTION:
URL:https://stepbystepinc.com/event/columbus-day-studio-closed/
END:VEVENT
BEGIN:VEVENT
DTSTART;TZID=America/New_York:20251002T160000
DTEND;TZID=America/New_York:20251002T210000
DTSTAMP:20260425T092815
CREATED:20250814T150613Z
LAST-MODIFIED:20250814T150713Z
UID:31227-1759420800-1759438800@stepbystepinc.com
SUMMARY:Yom Kippur – Studio Open
DESCRIPTION:We will remain open for classes on Yom Kippur. Families who observe the holiday may contact the studio to arrange a make-up class. While we follow the Waltham Public School System for snow cancellations\, we do not close for all school holidays. Please check with the studio or visit the Events Calendar on our website for updates on studio closings.
URL:https://stepbystepinc.com/event/yom-kippur-studio-open/
END:VEVENT
BEGIN:VEVENT
DTSTART;VALUE=DATE:20250923
DTEND;VALUE=DATE:20250924
DTSTAMP:20260425T092815
CREATED:20250814T145500Z
LAST-MODIFIED:20250814T150533Z
UID:31224-1758585600-1758671999@stepbystepinc.com
SUMMARY:Rosh Hashanah – Studio Open
DESCRIPTION:We will remain open for classes on Rosh Hashanah. Families who observe the holiday may contact the studio to arrange a make-up class. While we follow the Waltham Public School System for snow cancellations\, we do not close for all school holidays. Please check with the studio or visit the Events Calendar on our website for updates on studio closings.
URL:https://stepbystepinc.com/event/rosh-hashanah-studio-open-2/
END:VEVENT
BEGIN:VEVENT
DTSTART;TZID=America/New_York:20250908T160000
DTEND;TZID=America/New_York:20250908T210000
DTSTAMP:20260425T092815
CREATED:20250814T143712Z
LAST-MODIFIED:20250814T143712Z
UID:31220-1757347200-1757365200@stepbystepinc.com
SUMMARY:Dance Classes Begin
DESCRIPTION:Our dance classes officially begin on Monday\, September 8th.\nRegistered families can log into their Jack Rabbit Parent Portal to view class schedules and times. \nAdult classes are open for drop-in during the first week — $15 per class\, payable by cash or Venmo. No registration required for adult classes. \nIf you are new to our program and would like to register your child for dance\, please don’t wait — email us at office@stepstepinc.com
URL:https://stepbystepinc.com/event/dance-classes-begin/
END:VEVENT
BEGIN:VEVENT
DTSTART;TZID=America/New_York:20250907T100000
DTEND;TZID=America/New_York:20250907T120000
DTSTAMP:20260425T092815
CREATED:20250814T142701Z
LAST-MODIFIED:20250814T142826Z
UID:31215-1757239200-1757246400@stepbystepinc.com
SUMMARY:Studio Pop Shop Day
DESCRIPTION:Enjoy a private shopping experience for all your dancewear needs at Capezio Wellesley. \nStudio-exclusive hours: 10:00 AM – 12:00 PM. \nCapezio Wellesley330 Washington StreetWellesley\, MA 02481781-237-5526
URL:https://stepbystepinc.com/event/studio-pop-shop-day/
END:VEVENT
BEGIN:VEVENT
DTSTART;VALUE=DATE:20250614
DTEND;VALUE=DATE:20250616
DTSTAMP:20260425T092815
CREATED:20220610T185628Z
LAST-MODIFIED:20240702T193813Z
UID:30201-1749859200-1750031999@stepbystepinc.com
SUMMARY:Last Day of Classes
DESCRIPTION:Thank you for a wonderful dance season!
URL:https://stepbystepinc.com/event/last-day-of-classes/
LOCATION:Step-By-Step\, 85 River Street\, Waltham\, MA\, 02453\, United States
END:VEVENT
BEGIN:VEVENT
DTSTART;VALUE=DATE:20250526
DTEND;VALUE=DATE:20250527
DTSTAMP:20260425T092815
CREATED:20210830T224519Z
LAST-MODIFIED:20240702T162303Z
UID:30106-1748217600-1748303999@stepbystepinc.com
SUMMARY:Studio Closed for Memorial Day
DESCRIPTION:The studio will be closed on Monday\, May 26th for Memorial Day.
URL:https://stepbystepinc.com/event/studio-closed-for-memorial-day/
CATEGORIES:Holiday Closing
END:VEVENT
BEGIN:VEVENT
DTSTART;VALUE=DATE:20250523
DTEND;VALUE=DATE:20250524
DTSTAMP:20260425T092815
CREATED:20230608T151715Z
LAST-MODIFIED:20240702T163058Z
UID:30966-1747958400-1748044799@stepbystepinc.com
SUMMARY:Dress Rehearsal 2025
DESCRIPTION:Stay tuned for updates!
URL:https://stepbystepinc.com/event/dress-rehearsal-2024/
END:VEVENT
BEGIN:VEVENT
DTSTART;VALUE=DATE:20250519
DTEND;VALUE=DATE:20250525
DTSTAMP:20260425T092815
CREATED:20220526T194403Z
LAST-MODIFIED:20240702T163259Z
UID:30154-1747612800-1748131199@stepbystepinc.com
SUMMARY:Recital Week 2025
DESCRIPTION:Stay tuned for details about altered class schedules\, picture day\, dress rehearsal and the recital!
URL:https://stepbystepinc.com/event/recital-week-2024/
LOCATION:Step-By-Step\, 85 River Street\, Waltham\, MA\, 02453\, United States
END:VEVENT
BEGIN:VEVENT
DTSTART;VALUE=DATE:20250501
DTEND;VALUE=DATE:20250526
DTSTAMP:20260425T092815
CREATED:20220123T213405Z
LAST-MODIFIED:20240702T162915Z
UID:30132-1746057600-1748217599@stepbystepinc.com
SUMMARY:Stay tuned for updates about our annual dance recital 2025
DESCRIPTION:Stay tuned for updates about our annual recital!
URL:https://stepbystepinc.com/event/recital-2024/
LOCATION:Step-By-Step\, 85 River Street\, Waltham\, MA\, 02453\, United States
END:VEVENT
BEGIN:VEVENT
DTSTART;VALUE=DATE:20250421
DTEND;VALUE=DATE:20250427
DTSTAMP:20260425T092815
CREATED:20210824T171913Z
LAST-MODIFIED:20240702T163540Z
UID:30098-1745193600-1745711999@stepbystepinc.com
SUMMARY:Studio Closed for April Break
DESCRIPTION:The studio will be closed from Monday\, April 21st – Saturday\, April 26th for April Break.
URL:https://stepbystepinc.com/event/studio-closed-for-april-break/
CATEGORIES:Holiday Closing
END:VEVENT
BEGIN:VEVENT
DTSTART;VALUE=DATE:20250418
DTEND;VALUE=DATE:20250419
DTSTAMP:20260425T092815
CREATED:20220718T152217Z
LAST-MODIFIED:20240702T163943Z
UID:30491-1744934400-1745020799@stepbystepinc.com
SUMMARY:Studio Closed for regular classes: Good Friday
DESCRIPTION:The studio will be closed for regular classes on Friday\, April 18th in observance of Good Friday.
URL:https://stepbystepinc.com/event/studio-closed-good-friday/
CATEGORIES:Holiday Closing
END:VEVENT
BEGIN:VEVENT
DTSTART;VALUE=DATE:20250217
DTEND;VALUE=DATE:20250223
DTSTAMP:20260425T092815
CREATED:20210116T002035Z
LAST-MODIFIED:20240702T164136Z
UID:29879-1739750400-1740268799@stepbystepinc.com
SUMMARY:February Break - Studio Closed
DESCRIPTION:The studio will be closed Monday\, February 17th – Saturday\, February 22nd.
URL:https://stepbystepinc.com/event/studio-open-during-february-school-vacation/
LOCATION:Step-By-Step\, 85 River Street\, Waltham\, MA\, 02453\, United States
CATEGORIES:Holiday Closing
END:VEVENT
BEGIN:VEVENT
DTSTART;VALUE=DATE:20250120
DTEND;VALUE=DATE:20250121
DTSTAMP:20260425T092815
CREATED:20210824T164034Z
LAST-MODIFIED:20240702T164406Z
UID:30091-1737331200-1737417599@stepbystepinc.com
SUMMARY:Studio Closed for Martin Luther King Jr Day
DESCRIPTION:The studio will be closed on Monday\, January 20th for Martin Luther King Jr. Day
URL:https://stepbystepinc.com/event/studio-closed-for-martin-luther-king-jr-day/
CATEGORIES:Holiday Closing
END:VEVENT
BEGIN:VEVENT
DTSTART;VALUE=DATE:20241223
DTEND;VALUE=DATE:20250102
DTSTAMP:20260425T092815
CREATED:20201206T034228Z
LAST-MODIFIED:20240702T170147Z
UID:29800-1734912000-1735775999@stepbystepinc.com
SUMMARY:Studio Closed for Winter Break
DESCRIPTION:The studio will be closed from Monday\, December 23rd – Wednesday\, January 1st. Classes will resume on Thursday January 2nd. \nHappy Holidays!
URL:https://stepbystepinc.com/event/studio-closed-for-winter-break/
LOCATION:Step-By-Step\, 85 River Street\, Waltham\, MA\, 02453\, United States
CATEGORIES:Holiday Closing
END:VEVENT
BEGIN:VEVENT
DTSTART;VALUE=DATE:20241127
DTEND;VALUE=DATE:20241201
DTSTAMP:20260425T092815
CREATED:20200707T175718Z
LAST-MODIFIED:20240702T170435Z
UID:29365-1732665600-1733011199@stepbystepinc.com
SUMMARY:Studio Closed: Thanksgiving Break
DESCRIPTION:The studio will be closed for Thanksgiving break from Wednesday\, November 27th – Saturday\, November 30th
URL:https://stepbystepinc.com/event/studio-closed-thanksgiving-break/
LOCATION:Step-By-Step\, 85 River Street\, Waltham\, MA\, 02453\, United States
CATEGORIES:Holiday Closing
END:VEVENT
BEGIN:VEVENT
DTSTART;VALUE=DATE:20241111
DTEND;VALUE=DATE:20241112
DTSTAMP:20260425T092815
CREATED:20240702T171838Z
LAST-MODIFIED:20240702T171838Z
UID:31114-1731283200-1731369599@stepbystepinc.com
SUMMARY:Studio Closed for Veterans Day
DESCRIPTION:The studio will be closed on Monday\, November 11th in observance of Veterans Day.
URL:https://stepbystepinc.com/event/studio-closed-for-veterans-day-2/
CATEGORIES:Holiday Closing
END:VEVENT
BEGIN:VEVENT
DTSTART;VALUE=DATE:20241105
DTEND;VALUE=DATE:20241106
DTSTAMP:20260425T092815
CREATED:20210824T151051Z
LAST-MODIFIED:20240702T172125Z
UID:30085-1730764800-1730851199@stepbystepinc.com
SUMMARY:Election Day Closure
DESCRIPTION:The studio will be closed on Tuesday\, November 5th in observance of Election Day
URL:https://stepbystepinc.com/event/studio-closed-for-veterans-day/
CATEGORIES:Holiday Closing
END:VEVENT
BEGIN:VEVENT
DTSTART;VALUE=DATE:20241031
DTEND;VALUE=DATE:20241101
DTSTAMP:20260425T092815
CREATED:20220715T154510Z
LAST-MODIFIED:20240702T172606Z
UID:30471-1730332800-1730419199@stepbystepinc.com
SUMMARY:Studio Closed: Halloween
DESCRIPTION:The studio will be closed on Thursday\, October 31st for Halloween
URL:https://stepbystepinc.com/event/studio-closed-halloween/
CATEGORIES:Holiday Closing
END:VEVENT
BEGIN:VEVENT
DTSTART;VALUE=DATE:20241014
DTEND;VALUE=DATE:20241015
DTSTAMP:20260425T092815
CREATED:20210824T150908Z
LAST-MODIFIED:20240702T173003Z
UID:30083-1728864000-1728950399@stepbystepinc.com
SUMMARY:Studio closed - Columbus Day
DESCRIPTION:The studio will be closed Monday\, October 14th.
URL:https://stepbystepinc.com/event/studio-closed-columbus-day-2/
CATEGORIES:Holiday Closing
END:VEVENT
BEGIN:VEVENT
DTSTART;VALUE=DATE:20241006
DTEND;VALUE=DATE:20241007
DTSTAMP:20260425T092815
CREATED:20230608T142726Z
LAST-MODIFIED:20240702T173638Z
UID:30948-1728172800-1728259199@stepbystepinc.com
SUMMARY:Step By Step Dancers: Join Us for the Burn Survivors Walk
DESCRIPTION:Join us for a meaningful cause! Dance students from Step By Step are invited to unite and form a team in support of Burn Survivors during National Fire Prevention Week. Hosted by Miss Pam and Burn Survivors of New England\, this walk offers a fantastic opportunity to contribute to the community while earning valuable community service hours. Don’t miss out on this chance to make a difference! More details to follow.
URL:https://stepbystepinc.com/event/studio-closed-yom-kippur/
CATEGORIES:Holiday Closing
END:VEVENT
END:VCALENDAR