BEGIN:VCALENDAR
VERSION:2.0
PRODID:-//Step By Step - ECPv6.14.2//NONSGML v1.0//EN
CALSCALE:GREGORIAN
METHOD:PUBLISH
X-WR-CALNAME:Step By Step
X-ORIGINAL-URL:https://stepbystepinc.com
X-WR-CALDESC:Events for Step By Step
REFRESH-INTERVAL;VALUE=DURATION:PT1H
X-Robots-Tag:noindex
X-PUBLISHED-TTL:PT1H
BEGIN:VTIMEZONE
TZID:America/New_York
BEGIN:DAYLIGHT
TZOFFSETFROM:-0500
TZOFFSETTO:-0400
TZNAME:EDT
DTSTART:20230312T070000
END:DAYLIGHT
BEGIN:STANDARD
TZOFFSETFROM:-0400
TZOFFSETTO:-0500
TZNAME:EST
DTSTART:20231105T060000
END:STANDARD
BEGIN:DAYLIGHT
TZOFFSETFROM:-0500
TZOFFSETTO:-0400
TZNAME:EDT
DTSTART:20240310T070000
END:DAYLIGHT
BEGIN:STANDARD
TZOFFSETFROM:-0400
TZOFFSETTO:-0500
TZNAME:EST
DTSTART:20241103T060000
END:STANDARD
END:VTIMEZONE
BEGIN:VEVENT
DTSTART;VALUE=DATE:20240907
DTEND;VALUE=DATE:20240908
DTSTAMP:20260424T084643
CREATED:20220610T190902Z
LAST-MODIFIED:20240702T154808Z
UID:30213-1725667200-1725753599@stepbystepinc.com
SUMMARY:First Day of Classes - Full Season Begins!
DESCRIPTION:Dance classes begin for the 2024-2025 season! \n 
URL:https://stepbystepinc.com/event/first-day-of-classes-full-season-begins/
LOCATION:Step-By-Step\, 85 River Street\, Waltham\, MA\, 02453\, United States
CATEGORIES:In Studio
ATTACH;FMTTYPE=image/jpeg:https://stepbystepinc.com/refresh/wp-content/uploads/2022/06/Fall-Classes-Start-1.jpg
END:VEVENT
BEGIN:VEVENT
DTSTART;TZID=America/New_York:20240825T110000
DTEND;TZID=America/New_York:20240825T140000
DTSTAMP:20260424T084643
CREATED:20220715T152214Z
LAST-MODIFIED:20240702T160544Z
UID:30462-1724583600-1724594400@stepbystepinc.com
SUMMARY:Studio Pop-Up Shop! Dancewear\, Shoes and Apparel @Capezio in Wellesley
DESCRIPTION:Shop the SBS exclusive pop-up! Join us from 11:00am – 2:00pm at Capezio in Wellesley! \n 
URL:https://stepbystepinc.com/event/studio-pop-up-shop-dancewear-shoes-and-apparel-capezio-in-wellesley/
LOCATION:Capezio Wellesley\, 330 Washington Street\, Wellesley Hills\, MA\, 02481\, United States
ATTACH;FMTTYPE=image/jpeg:https://stepbystepinc.com/refresh/wp-content/uploads/2022/07/Pop-Shop.jpg
END:VEVENT
BEGIN:VEVENT
DTSTART;VALUE=DATE:20240102
DTEND;VALUE=DATE:20240103
DTSTAMP:20260424T084643
CREATED:20230608T135025Z
LAST-MODIFIED:20240702T164507Z
UID:30939-1704153600-1704239999@stepbystepinc.com
SUMMARY:Classes Resume
DESCRIPTION:Classes resume. Welcome back to dance!
URL:https://stepbystepinc.com/event/classes-resume/
LOCATION:Step-By-Step\, 85 River Street\, Waltham\, MA\, 02453\, United States
END:VEVENT
BEGIN:VEVENT
DTSTART;VALUE=DATE:20231107
DTEND;VALUE=DATE:20231108
DTSTAMP:20260424T084643
CREATED:20220718T145419Z
LAST-MODIFIED:20230608T144426Z
UID:30473-1699315200-1699401599@stepbystepinc.com
SUMMARY:Studio Open
DESCRIPTION:The studio will be open on Tuesday\, November 7th
URL:https://stepbystepinc.com/event/studio-closed-election-day/
LOCATION:Step-By-Step\, 85 River Street\, Waltham\, MA\, 02453\, United States
CATEGORIES:In Studio
END:VEVENT
BEGIN:VEVENT
DTSTART;TZID=America/New_York:20230907T163000
DTEND;TZID=America/New_York:20230907T183000
DTSTAMP:20260424T084643
CREATED:20230608T145105Z
LAST-MODIFIED:20230620T005733Z
UID:30958-1694104200-1694111400@stepbystepinc.com
SUMMARY:Open House
DESCRIPTION:Come see us at the studio to learn more about our program and upcoming class offerings!
URL:https://stepbystepinc.com/event/open-house-7/
LOCATION:Step-By-Step\, 85 River Street\, Waltham\, MA\, 02453\, United States
CATEGORIES:In Studio
ATTACH;FMTTYPE=image/jpeg:https://stepbystepinc.com/refresh/wp-content/uploads/2023/06/Open-House.jpg
END:VEVENT
BEGIN:VEVENT
DTSTART;VALUE=DATE:20230904
DTEND;VALUE=DATE:20230905
DTSTAMP:20260424T084643
CREATED:20200707T175057Z
LAST-MODIFIED:20230608T145234Z
UID:29346-1693785600-1693871999@stepbystepinc.com
SUMMARY:Studio Closed: Labor Day
DESCRIPTION:Studio offices will be closed on Monday\, September 4th in observance of Labor Day
URL:https://stepbystepinc.com/event/studio-closed-for-labor-day/
LOCATION:Step-By-Step\, 85 River Street\, Waltham\, MA\, 02453\, United States
CATEGORIES:Holiday Closing
END:VEVENT
BEGIN:VEVENT
DTSTART;TZID=America/New_York:20230817T163000
DTEND;TZID=America/New_York:20230817T183000
DTSTAMP:20260424T084643
CREATED:20230608T145009Z
LAST-MODIFIED:20230608T145009Z
UID:30956-1692289800-1692297000@stepbystepinc.com
SUMMARY:Open House
DESCRIPTION:Come see us at the studio to learn more about our program and upcoming class offerings!
URL:https://stepbystepinc.com/event/open-house-6/
LOCATION:Step-By-Step\, 85 River Street\, Waltham\, MA\, 02453\, United States
CATEGORIES:In Studio
END:VEVENT
BEGIN:VEVENT
DTSTART;TZID=America/New_York:20230810T163000
DTEND;TZID=America/New_York:20230810T183000
DTSTAMP:20260424T084643
CREATED:20230608T144928Z
LAST-MODIFIED:20230620T005804Z
UID:30954-1691685000-1691692200@stepbystepinc.com
SUMMARY:Open House
DESCRIPTION:Come see us at the studio to learn more about our program and upcoming class offerings!
URL:https://stepbystepinc.com/event/open-house-5/
LOCATION:Step-By-Step\, 85 River Street\, Waltham\, MA\, 02453\, United States
CATEGORIES:In Studio
ATTACH;FMTTYPE=image/jpeg:https://stepbystepinc.com/refresh/wp-content/uploads/2023/06/Open-House.jpg
END:VEVENT
BEGIN:VEVENT
DTSTART;TZID=America/New_York:20230803T163000
DTEND;TZID=America/New_York:20230803T183000
DTSTAMP:20260424T084643
CREATED:20220610T190330Z
LAST-MODIFIED:20230620T005838Z
UID:30203-1691080200-1691087400@stepbystepinc.com
SUMMARY:Open House
DESCRIPTION:Come see us at the studio to learn more about our program and upcoming class offerings!
URL:https://stepbystepinc.com/event/open-house/
LOCATION:Step-By-Step\, 85 River Street\, Waltham\, MA\, 02453\, United States
CATEGORIES:In Studio
ATTACH;FMTTYPE=image/jpeg:https://stepbystepinc.com/refresh/wp-content/uploads/2023/06/Open-House.jpg
END:VEVENT
BEGIN:VEVENT
DTSTART;TZID=America/New_York:20230727T163000
DTEND;TZID=America/New_York:20230727T183000
DTSTAMP:20260424T084643
CREATED:20220610T190613Z
LAST-MODIFIED:20230620T010022Z
UID:30211-1690475400-1690482600@stepbystepinc.com
SUMMARY:Open House
DESCRIPTION:Come see us at the studio to learn more about our program and upcoming class offerings!
URL:https://stepbystepinc.com/event/open-house-4/
LOCATION:Step-By-Step\, 85 River Street\, Waltham\, MA\, 02453\, United States
CATEGORIES:In Studio
ATTACH;FMTTYPE=image/jpeg:https://stepbystepinc.com/refresh/wp-content/uploads/2023/06/Open-House.jpg
END:VEVENT
BEGIN:VEVENT
DTSTART;VALUE=DATE:20230619
DTEND;VALUE=DATE:20230620
DTSTAMP:20260424T084643
CREATED:20220610T182058Z
LAST-MODIFIED:20230608T205829Z
UID:30195-1687132800-1687219199@stepbystepinc.com
SUMMARY:Online Registration Opens
DESCRIPTION:Register for the upcoming 2023-2024 season! \n 
URL:https://stepbystepinc.com/event/online-registration-opens/
CATEGORIES:Online
ATTACH;FMTTYPE=image/jpeg:https://stepbystepinc.com/refresh/wp-content/uploads/2023/06/Registration-2023-2024.jpg
END:VEVENT
BEGIN:VEVENT
DTSTART;VALUE=DATE:20230616
DTEND;VALUE=DATE:20230617
DTSTAMP:20260424T084643
CREATED:20230608T205506Z
LAST-MODIFIED:20230608T205544Z
UID:30984-1686873600-1686959999@stepbystepinc.com
SUMMARY:Dance Team Auditions
DESCRIPTION:Dance team auditions will be held on Friday\, June 16th. Visit the Next Step Dance Company page for more information and register by visiting our class schedule. \n 
URL:https://stepbystepinc.com/event/dance-team-auditions/
LOCATION:Step-By-Step\, 85 River Street\, Waltham\, MA\, 02453\, United States
CATEGORIES:In Studio
ATTACH;FMTTYPE=image/jpeg:https://stepbystepinc.com/refresh/wp-content/uploads/2023/06/Dance-Team-Auditions.jpg
END:VEVENT
BEGIN:VEVENT
DTSTART;VALUE=DATE:20230615
DTEND;VALUE=DATE:20230616
DTSTAMP:20260424T084643
CREATED:20220718T152355Z
LAST-MODIFIED:20230608T235504Z
UID:30493-1686787200-1686873599@stepbystepinc.com
SUMMARY:Last Day of Classes
DESCRIPTION:Thursday\, June 15th is the last day of classes for the 2022-2023 season. Thank you for a wonderful dance year!
URL:https://stepbystepinc.com/event/last-day-of-classes-2/
CATEGORIES:In Studio
END:VEVENT
END:VCALENDAR