BEGIN:VCALENDAR
VERSION:2.0
PRODID:-//Step By Step - ECPv6.14.2//NONSGML v1.0//EN
CALSCALE:GREGORIAN
METHOD:PUBLISH
X-WR-CALNAME:Step By Step
X-ORIGINAL-URL:https://stepbystepinc.com
X-WR-CALDESC:Events for Step By Step
REFRESH-INTERVAL;VALUE=DURATION:PT1H
X-Robots-Tag:noindex
X-PUBLISHED-TTL:PT1H
BEGIN:VTIMEZONE
TZID:America/New_York
BEGIN:DAYLIGHT
TZOFFSETFROM:-0500
TZOFFSETTO:-0400
TZNAME:EDT
DTSTART:20230312T070000
END:DAYLIGHT
BEGIN:STANDARD
TZOFFSETFROM:-0400
TZOFFSETTO:-0500
TZNAME:EST
DTSTART:20231105T060000
END:STANDARD
END:VTIMEZONE
BEGIN:VEVENT
DTSTART;VALUE=DATE:20230616
DTEND;VALUE=DATE:20230617
DTSTAMP:20260424T100726
CREATED:20230608T205506Z
LAST-MODIFIED:20230608T205544Z
UID:30984-1686873600-1686959999@stepbystepinc.com
SUMMARY:Dance Team Auditions
DESCRIPTION:Dance team auditions will be held on Friday\, June 16th. Visit the Next Step Dance Company page for more information and register by visiting our class schedule. \n 
URL:https://stepbystepinc.com/event/dance-team-auditions/
LOCATION:Step-By-Step\, 85 River Street\, Waltham\, MA\, 02453\, United States
CATEGORIES:In Studio
ATTACH;FMTTYPE=image/jpeg:https://stepbystepinc.com/refresh/wp-content/uploads/2023/06/Dance-Team-Auditions.jpg
END:VEVENT
BEGIN:VEVENT
DTSTART;VALUE=DATE:20230615
DTEND;VALUE=DATE:20230616
DTSTAMP:20260424T100726
CREATED:20220718T152355Z
LAST-MODIFIED:20230608T235504Z
UID:30493-1686787200-1686873599@stepbystepinc.com
SUMMARY:Last Day of Classes
DESCRIPTION:Thursday\, June 15th is the last day of classes for the 2022-2023 season. Thank you for a wonderful dance year!
URL:https://stepbystepinc.com/event/last-day-of-classes-2/
LOCATION:MA
CATEGORIES:In Studio
END:VEVENT
END:VCALENDAR